BEGIN:VCALENDAR
VERSION:2.0
PRODID:-//wp-events-plugin.com//7.2.3.1//EN
TZID:America/New_York
X-WR-TIMEZONE:America/New_York
BEGIN:VEVENT
UID:30@c2mi.ca
DTSTART;TZID=America/New_York;VALUE=DATE:20170515
DTEND;TZID=America/New_York;VALUE=DATE:20170520
DTSTAMP:20170530T015851Z
URL:https://www.c2mi.ca/evenements/eureka-innovation-week-2017/
SUMMARY:EUREKA Innovation Week 2017
DESCRIPTION:Eureka Innovation Week permet aux gens de l’industrie europé
 enne de se rencontrer et de discuter sur les technologies intelligentes.\n
 \nCet évènement propose des séances de B2B\, des espaces d’exposition
 \, des ateliers et des conférences portant sur les cleantech\, les socié
 tés numériques\, la bioéconomie\, la santé et le biomédical\, l’ind
 ustrie du 4.0\, les matériaux avancés (advanced materials) ainsi que les
  transports et les infrastructures intelligentes.
ATTACH;FMTTYPE=image/jpeg:https://www.c2mi.ca/wp-content/uploads/2017/05/o
 pen-eureka-2017.png
LOCATION:Centre de Convencions Internacional de Barcelona (CCIB)\, Plaça d
 e Willy Brandt\, 11-14\, Barcelone \, 08019\, Espagne
GEO:41.409407;2.219077200000015
X-APPLE-STRUCTURED-LOCATION;VALUE=URI;X-ADDRESS=Plaça de Willy Brandt\, 11
 -14\, Barcelone \, 08019\, Espagne;X-APPLE-RADIUS=100;X-TITLE=Centre de Co
 nvencions Internacional de Barcelona (CCIB):geo:41.409407,2.21907720000001
 5
END:VEVENT
BEGIN:VTIMEZONE
TZID:America/New_York
X-LIC-LOCATION:America/New_York
BEGIN:DAYLIGHT
DTSTART:20170312T030000
TZOFFSETFROM:-0500
TZOFFSETTO:-0400
TZNAME:EDT
END:DAYLIGHT
END:VTIMEZONE
END:VCALENDAR