BEGIN:VCALENDAR
VERSION:2.0
PRODID:-//wp-events-plugin.com//7.2.3.1//EN
TZID:America/New_York
X-WR-TIMEZONE:America/New_York
BEGIN:VEVENT
UID:270@c2mi.ca
DTSTART;TZID=America/New_York;VALUE=DATE:20250520
DTEND;TZID=America/New_York;VALUE=DATE:20250523
DTSTAMP:20250411T203301Z
URL:https://www.c2mi.ca/evenements/medtech-sector/
SUMMARY:MedTech Sector
DESCRIPTION:Tiphaine Bridoux\, directrice au Développement des affaires au
  C2MI\, sera présente pour vous rencontrer lors de cet événement à New
  York du 20 au 22 mai 2025.
ATTACH;FMTTYPE=image/jpeg:https://www.c2mi.ca/wp-content/uploads/2025/04/C
 apture-decran-2025-04-11-163148.png
LOCATION:Jacob K. Javits Convention Center\, 429\, 11th Avenue\, New York\,
  New York\, 10001\, États-Unis
GEO:40.757551;-74.002469
X-APPLE-STRUCTURED-LOCATION;VALUE=URI;X-ADDRESS=429\, 11th Avenue\, New Yor
 k\, New York\, 10001\, États-Unis;X-APPLE-RADIUS=100;X-TITLE=Jacob K. Jav
 its Convention Center:geo:40.757551,-74.002469
END:VEVENT
BEGIN:VTIMEZONE
TZID:America/New_York
X-LIC-LOCATION:America/New_York
BEGIN:DAYLIGHT
DTSTART:20250309T030000
TZOFFSETFROM:-0500
TZOFFSETTO:-0400
TZNAME:EDT
END:DAYLIGHT
END:VTIMEZONE
END:VCALENDAR